BEGIN:VCALENDAR
VERSION:2.0
PRODID:-// - ECPv6.15.20//NONSGML v1.0//EN
CALSCALE:GREGORIAN
METHOD:PUBLISH
X-ORIGINAL-URL:https://blueslipwinery.com
X-WR-CALDESC:Events for 
REFRESH-INTERVAL;VALUE=DURATION:PT1H
X-Robots-Tag:noindex
X-PUBLISHED-TTL:PT1H
BEGIN:VTIMEZONE
TZID:UTC
BEGIN:STANDARD
TZOFFSETFROM:+0000
TZOFFSETTO:+0000
TZNAME:UTC
DTSTART:20210101T000000
END:STANDARD
END:VTIMEZONE
BEGIN:VEVENT
DTSTART;TZID=UTC:20230304T163000
DTEND;TZID=UTC:20230304T170000
DTSTAMP:20260423T162859
CREATED:20230126T191941Z
LAST-MODIFIED:20230126T203738Z
UID:146-1677947400-1677949200@blueslipwinery.com
SUMMARY:Cookies + Cocktails Pairing
DESCRIPTION:What’s better than milk and cookies? Cocktails and cookies! \nWe have perfectly paired 4 cocktails (or 4 mocktails) with 8 girl scout cookies! It’s like an grown up’s dream come true! \nGet your tickets here!
URL:https://blueslipwinery.com/event/cookies-cocktails-pairing/
LOCATION:Historic Southern Railway Station\, 300 West Depot Ave\, Knoxville\, TN\, 37931\, United States
END:VEVENT
BEGIN:VEVENT
DTSTART;TZID=UTC:20230211T150000
DTEND;TZID=UTC:20230211T170000
DTSTAMP:20260423T162859
CREATED:20230126T191732Z
LAST-MODIFIED:20230126T203910Z
UID:144-1676127600-1676134800@blueslipwinery.com
SUMMARY:Galentine's Day
DESCRIPTION:Enjoy a Saturday morning at the Historic Southern Railway Station with your besties! Each person will receive a goodie box including sweets & treats\, and one glass of bubbly. Fresh mimosa juices/garnishes will be furnished for each table. \nClick here for tickets!
URL:https://blueslipwinery.com/event/galentines-day/
LOCATION:Historic Southern Railway Station\, 300 West Depot Ave\, Knoxville\, TN\, 37931\, United States
END:VEVENT
BEGIN:VEVENT
DTSTART;TZID=UTC:20221217T180000
DTEND;TZID=UTC:20221217T180000
DTSTAMP:20260423T162859
CREATED:20221111T182759Z
LAST-MODIFIED:20221111T182858Z
UID:132-1671300000-1671300000@blueslipwinery.com
SUMMARY:Cookies & Wine Pairing
DESCRIPTION:Tickets coming soon
URL:https://blueslipwinery.com/event/cookies-wine-pairing/
LOCATION:Historic Southern Railway Station\, 300 West Depot Ave\, Knoxville\, TN\, 37931\, United States
ATTACH;FMTTYPE=image/png:https://blueslipwinery.com/wp-content/uploads/2022/11/472CF46A-51FA-4686-B30F-E705A163059B.png
END:VEVENT
BEGIN:VEVENT
DTSTART;TZID=UTC:20221216T180000
DTEND;TZID=UTC:20221216T180000
DTSTAMP:20260423T162859
CREATED:20221111T182308Z
LAST-MODIFIED:20221111T182308Z
UID:129-1671213600-1671213600@blueslipwinery.com
SUMMARY:Trivia
DESCRIPTION:Free to play!
URL:https://blueslipwinery.com/event/trivia-3/
LOCATION:Historic Southern Railway Station\, 300 West Depot Ave\, Knoxville\, TN\, 37931\, United States
ATTACH;FMTTYPE=image/jpeg:https://blueslipwinery.com/wp-content/uploads/2022/11/85BCC163-DADC-418C-A4EF-4EE96B78A92D-2.jpg
END:VEVENT
BEGIN:VEVENT
DTSTART;TZID=UTC:20221209T180000
DTEND;TZID=UTC:20221209T180000
DTSTAMP:20260423T162859
CREATED:20221111T182149Z
LAST-MODIFIED:20221111T182956Z
UID:127-1670608800-1670608800@blueslipwinery.com
SUMMARY:Trivia
DESCRIPTION:Free to play!
URL:https://blueslipwinery.com/event/trivia-2/
LOCATION:TN
ATTACH;FMTTYPE=image/jpeg:https://blueslipwinery.com/wp-content/uploads/2022/11/85BCC163-DADC-418C-A4EF-4EE96B78A92D-2.jpg
END:VEVENT
BEGIN:VEVENT
DTSTART;TZID=UTC:20221204T120000
DTEND;TZID=UTC:20221204T170000
DTSTAMP:20260423T162859
CREATED:20221108T184545Z
LAST-MODIFIED:20221108T184545Z
UID:117-1670155200-1670173200@blueslipwinery.com
SUMMARY:Christmas Market
DESCRIPTION:Mingle with local business owners and grab some unique holiday gifts! Free admission & Free on-site parking.
URL:https://blueslipwinery.com/event/christmas-market/
LOCATION:Historic Southern Railway Station\, 300 West Depot Ave\, Knoxville\, TN\, 37931\, United States
ATTACH;FMTTYPE=image/png:https://blueslipwinery.com/wp-content/uploads/2022/11/7215A6B0-AF5C-43B6-89F1-AA8988F3F3D7.png
END:VEVENT
BEGIN:VEVENT
DTSTART;TZID=UTC:20221203T183000
DTEND;TZID=UTC:20221203T200000
DTSTAMP:20260423T162859
CREATED:20221108T184314Z
LAST-MODIFIED:20221108T184314Z
UID:114-1670092200-1670097600@blueslipwinery.com
SUMMARY:Grinchmas at the Station
DESCRIPTION:Drink up\, Grinches! Dress in your best Whoville attire and grab a Grinch inspired beverage! This event is 21+ and FREE to attend!
URL:https://blueslipwinery.com/event/grinchmas-at-the-station/
LOCATION:Historic Southern Railway Station\, 300 West Depot Ave\, Knoxville\, TN\, 37931\, United States
ATTACH;FMTTYPE=image/png:https://blueslipwinery.com/wp-content/uploads/2022/11/CBD3B9F0-73D8-4997-8F4C-7FA5FB07C89D.png
END:VEVENT
BEGIN:VEVENT
DTSTART;TZID=UTC:20221202T180000
DTEND;TZID=UTC:20221202T180000
DTSTAMP:20260423T162859
CREATED:20221111T182055Z
LAST-MODIFIED:20221111T182055Z
UID:124-1670004000-1670004000@blueslipwinery.com
SUMMARY:Trivia
DESCRIPTION:Free to play!
URL:https://blueslipwinery.com/event/trivia/
LOCATION:Historic Southern Railway Station\, 300 West Depot Ave\, Knoxville\, TN\, 37931\, United States
ATTACH;FMTTYPE=image/jpeg:https://blueslipwinery.com/wp-content/uploads/2022/11/85BCC163-DADC-418C-A4EF-4EE96B78A92D-2.jpg
END:VEVENT
BEGIN:VEVENT
DTSTART;TZID=UTC:20221201T180000
DTEND;TZID=UTC:20221201T200000
DTSTAMP:20260423T162859
CREATED:20221108T183429Z
LAST-MODIFIED:20221108T183429Z
UID:112-1669917600-1669924800@blueslipwinery.com
SUMMARY:AR Workshop - Chunky Blanket
DESCRIPTION:In this workshop\, we will guide you step-by-step through the hand knitting process to create a super cozy\, one-of-a-kind blanket. Make one for you or one as a gift! The blanket requires no needles and knitting experience! The registration fee is $85.00 and includes all materials and instruction. You will receive enough chunky chenille yarn to make an (approximately) 40″ x 50″ blanket. The finished size may vary depending on your individual hand-knitting process. This is an advanced project and intended for guests aged 15 and up. \nClick Here for Tickets!
URL:https://blueslipwinery.com/event/ar-workshop-chunky-blanket/
LOCATION:Historic Southern Railway Station\, 300 West Depot Ave\, Knoxville\, TN\, 37931\, United States
ATTACH;FMTTYPE=image/png:https://blueslipwinery.com/wp-content/uploads/2022/02/image.png
END:VEVENT
BEGIN:VEVENT
DTSTART;TZID=UTC:20221028T180000
DTEND;TZID=UTC:20221028T180000
DTSTAMP:20260423T162859
CREATED:20220909T123456Z
LAST-MODIFIED:20220909T123456Z
UID:109-1666980000-1666980000@blueslipwinery.com
SUMMARY:Spooky Succulents
DESCRIPTION:More information coming soon!!
URL:https://blueslipwinery.com/event/spooky-succulents/
LOCATION:Historic Southern Railway Station\, 300 West Depot Ave\, Knoxville\, TN\, 37931\, United States
END:VEVENT
BEGIN:VEVENT
DTSTART;TZID=UTC:20220916T180000
DTEND;TZID=UTC:20220916T180000
DTSTAMP:20260423T162859
CREATED:20220909T123336Z
LAST-MODIFIED:20220909T123336Z
UID:107-1663351200-1663351200@blueslipwinery.com
SUMMARY:Charcuterie Workshop - SOLD OUT
DESCRIPTION:
URL:https://blueslipwinery.com/event/charcuterie-workshop-sold-out/
LOCATION:Historic Southern Railway Station\, 300 West Depot Ave\, Knoxville\, TN\, 37931\, United States
ATTACH;FMTTYPE=image/png:https://blueslipwinery.com/wp-content/uploads/2022/03/image1.png
END:VEVENT
BEGIN:VEVENT
DTSTART;TZID=UTC:20220323T183000
DTEND;TZID=UTC:20220323T203000
DTSTAMP:20260423T162859
CREATED:20220223T001846Z
LAST-MODIFIED:20220223T010148Z
UID:83-1648060200-1648067400@blueslipwinery.com
SUMMARY:Painting with a Twist - Wine Down Wednesday
DESCRIPTION:We are partnering with Painting with a Twist to bring you a fun night of wine drinking and painting! Each ticket includes a bottle of wine\, and the supplies needed to paint your masterpiece!
URL:https://blueslipwinery.com/event/painting-with-a-twist-wine-down-wednesday/
LOCATION:Historic Southern Railway Station\, 300 West Depot Ave\, Knoxville\, TN\, 37931\, United States
ATTACH;FMTTYPE=image/jpeg:https://blueslipwinery.com/wp-content/uploads/2022/02/6834_w.jpeg
END:VEVENT
BEGIN:VEVENT
DTSTART;TZID=UTC:20220316T170000
DTEND;TZID=UTC:20220316T180000
DTSTAMP:20260423T162859
CREATED:20220304T103006Z
LAST-MODIFIED:20220304T103006Z
UID:93-1647450000-1647453600@blueslipwinery.com
SUMMARY:Sip & Pour Candle Making
DESCRIPTION:Join us for a fun evening of wine and candle pouring with a St. Patty’s Day theme!
URL:https://blueslipwinery.com/event/sip-pour-candle-making/
LOCATION:Historic Southern Railway Station\, 300 West Depot Ave\, Knoxville\, TN\, 37931\, United States
ATTACH;FMTTYPE=image/png:https://blueslipwinery.com/wp-content/uploads/2022/03/image0.png
END:VEVENT
BEGIN:VEVENT
DTSTART;TZID=UTC:20220312T180000
DTEND;TZID=UTC:20220312T210000
DTSTAMP:20260423T162859
CREATED:20220223T001252Z
LAST-MODIFIED:20220223T005634Z
UID:81-1647108000-1647118800@blueslipwinery.com
SUMMARY:Wine & Girl Scout Cookie Pairing
DESCRIPTION:A flight of Blue Slip Wines will be perfectly paired with your favorite Girl Scout Cookies! \n 
URL:https://blueslipwinery.com/event/wine-girl-scout-cookie-pairing/
LOCATION:Historic Southern Railway Station\, 300 West Depot Ave\, Knoxville\, TN\, 37931\, United States
ATTACH;FMTTYPE=image/png:https://blueslipwinery.com/wp-content/uploads/2022/02/image0.png
END:VEVENT
BEGIN:VEVENT
DTSTART;TZID=UTC:20220311T180000
DTEND;TZID=UTC:20220311T210000
DTSTAMP:20260423T162859
CREATED:20220223T001037Z
LAST-MODIFIED:20220223T005821Z
UID:79-1647021600-1647032400@blueslipwinery.com
SUMMARY:Wine & Girl Scout Cookies
DESCRIPTION:A flight of Blue Slip Wines will be perfectly paired with your favorite Girl Scout Cookies. https://www.eventbrite.com/e/wine-girl-scout-cookie-pairing-tickets-274903352327
URL:https://blueslipwinery.com/event/wine-girl-scout-cookies/
LOCATION:Historic Southern Railway Station\, 300 West Depot Ave\, Knoxville\, TN\, 37931\, United States
ATTACH;FMTTYPE=image/png:https://blueslipwinery.com/wp-content/uploads/2022/02/image0.png
END:VEVENT
BEGIN:VEVENT
DTSTART;TZID=UTC:20220309T183000
DTEND;TZID=UTC:20220309T183000
DTSTAMP:20260423T162859
CREATED:20220304T103221Z
LAST-MODIFIED:20220304T103221Z
UID:96-1646850600-1646850600@blueslipwinery.com
SUMMARY:Charcuterie Class with Amazing Graze
DESCRIPTION:Grab a friend and learn to make your own charcuterie board! The class includes everything you need to make your own 4-serving charcuterie masterpiece.\nNot to mention delicious wine will be available for purchase where the class is being hosted: Blue Slip Winery!\nFollow along as we teach you tips and tricks to make your impressive board look as beautiful as it is delicious.\nOnly 25 spots are available for this class so hurry and reserve your spot today
URL:https://blueslipwinery.com/event/charcuterie-class-with-amazing-graze/
LOCATION:Historic Southern Railway Station\, 300 West Depot Ave\, Knoxville\, TN\, 37931\, United States
ATTACH;FMTTYPE=image/png:https://blueslipwinery.com/wp-content/uploads/2022/03/image1.png
END:VEVENT
BEGIN:VEVENT
DTSTART;TZID=UTC:20220303T150000
DTEND;TZID=UTC:20220303T170000
DTSTAMP:20260423T162859
CREATED:20220223T000532Z
LAST-MODIFIED:20220223T010013Z
UID:77-1646319600-1646326800@blueslipwinery.com
SUMMARY:National Mulled Wine Day
DESCRIPTION:Celebrate National Mulled Wine Day with a glass of warm\, spiced cider (while supplies last)
URL:https://blueslipwinery.com/event/national-mulled-wine-day/
LOCATION:Historic Southern Railway Station\, 300 West Depot Ave\, Knoxville\, TN\, 37931\, United States
ATTACH;FMTTYPE=image/jpeg:https://blueslipwinery.com/wp-content/uploads/2022/02/EBF49C98-9E8A-459D-88FC-9F0AB3DE84C7.jpg
END:VEVENT
BEGIN:VEVENT
DTSTART;TZID=UTC:20220223T183000
DTEND;TZID=UTC:20220223T210000
DTSTAMP:20260423T162859
CREATED:20220205T203928Z
LAST-MODIFIED:20220223T005313Z
UID:43-1645641000-1645650000@blueslipwinery.com
SUMMARY:Wine & Weave with AR Workshop
DESCRIPTION:It’s the perfect time to register for our Chunky Knit Blanket Workshop®! In this workshop\, we will guide you step-by-step through the hand knitting process to create a super cozy\, one-of-a-kind blanket\, as you sip on locally made wines from Blue Slip Winery. Make one for you or one as a gift! The blanket requires no needles or knitting experience! The registration fee is $90.00 and includes all materials\, instruction\, and a bottle of wine of your choice from the winery. You will receive enough chunky chenille yarn to make an (approximately) 40″ x 50″ blanket. The finished size may vary depending on your individual hand-knitting process. This is an advanced project and intended for guests aged 21 and up. \nPLEASE NOTE: You will be able to choose your yarn colors when you arrive for your workshop. We offer a selection of neutral colors (i.e gray\, cream\, and tan) along with a few other color choices. Colors may be limited and are available on a first come\, first serve basis.
URL:https://blueslipwinery.com/event/wine-weave-with-ar-workshop/
LOCATION:Historic Southern Railway Station\, 300 West Depot Ave\, Knoxville\, TN\, 37931\, United States
ATTACH;FMTTYPE=image/png:https://blueslipwinery.com/wp-content/uploads/2022/02/image.png
END:VEVENT
BEGIN:VEVENT
DTSTART;TZID=UTC:20220219T180000
DTEND;TZID=UTC:20220219T200000
DTSTAMP:20260423T162859
CREATED:20220210T191004Z
LAST-MODIFIED:20220210T191004Z
UID:71-1645293600-1645300800@blueslipwinery.com
SUMMARY:Painting With A Twist
DESCRIPTION:
URL:https://blueslipwinery.com/event/painting-with-a-twist/
LOCATION:Historic Southern Railway Station\, 300 West Depot Ave\, Knoxville\, TN\, 37931\, United States
END:VEVENT
BEGIN:VEVENT
DTSTART;TZID=UTC:20220218T150000
DTEND;TZID=UTC:20220218T180000
DTSTAMP:20260423T162859
CREATED:20220205T205002Z
LAST-MODIFIED:20220205T205002Z
UID:64-1645196400-1645207200@blueslipwinery.com
SUMMARY:Valentine's Day Wine Tasting
DESCRIPTION:
URL:https://blueslipwinery.com/event/valentines-day-wine-tasting-8/
LOCATION:Historic Southern Railway Station\, 300 West Depot Ave\, Knoxville\, TN\, 37931\, United States
END:VEVENT
BEGIN:VEVENT
DTSTART;TZID=UTC:20220218T150000
DTEND;TZID=UTC:20220218T170000
DTSTAMP:20260423T162859
CREATED:20220210T191338Z
LAST-MODIFIED:20220210T191338Z
UID:74-1645196400-1645203600@blueslipwinery.com
SUMMARY:National Drink Wine Day
DESCRIPTION:
URL:https://blueslipwinery.com/event/national-drink-wine-day/
LOCATION:Historic Southern Railway Station\, 300 West Depot Ave\, Knoxville\, TN\, 37931\, United States
END:VEVENT
BEGIN:VEVENT
DTSTART;TZID=UTC:20220217T150000
DTEND;TZID=UTC:20220217T180000
DTSTAMP:20260423T162859
CREATED:20220205T204814Z
LAST-MODIFIED:20220205T204814Z
UID:62-1645110000-1645120800@blueslipwinery.com
SUMMARY:Valentine's Day Wine Tasting
DESCRIPTION:
URL:https://blueslipwinery.com/event/valentines-day-wine-tasting-7/
LOCATION:Historic Southern Railway Station\, 300 West Depot Ave\, Knoxville\, TN\, 37931\, United States
END:VEVENT
BEGIN:VEVENT
DTSTART;TZID=UTC:20220214T150000
DTEND;TZID=UTC:20220214T180000
DTSTAMP:20260423T162859
CREATED:20220205T204711Z
LAST-MODIFIED:20220205T205200Z
UID:60-1644850800-1644861600@blueslipwinery.com
SUMMARY:Valentine's Day Wine Tasting
DESCRIPTION:
URL:https://blueslipwinery.com/event/historic-southern-railway-station/
LOCATION:Historic Southern Railway Station\, 300 West Depot Ave\, Knoxville\, TN\, 37931\, United States
END:VEVENT
BEGIN:VEVENT
DTSTART;TZID=UTC:20220213T150000
DTEND;TZID=UTC:20220213T170000
DTSTAMP:20260423T162859
CREATED:20220205T204545Z
LAST-MODIFIED:20220205T204545Z
UID:58-1644764400-1644771600@blueslipwinery.com
SUMMARY:Valentine's Day Wine Tasting
DESCRIPTION:
URL:https://blueslipwinery.com/event/valentines-day-wine-tasting-6/
LOCATION:TN
END:VEVENT
BEGIN:VEVENT
DTSTART;TZID=UTC:20220212T150000
DTEND;TZID=UTC:20220212T180000
DTSTAMP:20260423T162859
CREATED:20220205T204454Z
LAST-MODIFIED:20220205T204454Z
UID:56-1644678000-1644688800@blueslipwinery.com
SUMMARY:Valentine's Day Wine Tasting
DESCRIPTION:
URL:https://blueslipwinery.com/event/valentines-day-wine-tasting-5/
LOCATION:Historic Southern Railway Station\, 300 West Depot Ave\, Knoxville\, TN\, 37931\, United States
END:VEVENT
BEGIN:VEVENT
DTSTART;TZID=UTC:20220211T150000
DTEND;TZID=UTC:20220211T180000
DTSTAMP:20260423T162859
CREATED:20220205T204412Z
LAST-MODIFIED:20220205T204412Z
UID:54-1644591600-1644602400@blueslipwinery.com
SUMMARY:Valentine's Day Wine Tasting
DESCRIPTION:
URL:https://blueslipwinery.com/event/valentines-day-wine-tasting-4/
LOCATION:Historic Southern Railway Station\, 300 West Depot Ave\, Knoxville\, TN\, 37931\, United States
END:VEVENT
BEGIN:VEVENT
DTSTART;TZID=UTC:20220210T150000
DTEND;TZID=UTC:20220210T180000
DTSTAMP:20260423T162859
CREATED:20220205T204330Z
LAST-MODIFIED:20220205T204330Z
UID:52-1644505200-1644516000@blueslipwinery.com
SUMMARY:Valentine's Day Wine Tasting
DESCRIPTION:
URL:https://blueslipwinery.com/event/valentines-day-wine-tasting-3/
LOCATION:Historic Southern Railway Station\, 300 West Depot Ave\, Knoxville\, TN\, 37931\, United States
END:VEVENT
BEGIN:VEVENT
DTSTART;TZID=UTC:20220206T150000
DTEND;TZID=UTC:20220206T170000
DTSTAMP:20260423T162859
CREATED:20220205T204247Z
LAST-MODIFIED:20220205T204247Z
UID:50-1644159600-1644166800@blueslipwinery.com
SUMMARY:Valentine's Day Wine Tasting
DESCRIPTION:
URL:https://blueslipwinery.com/event/valentines-day-wine-tasting-2/
LOCATION:Historic Southern Railway Station\, 300 West Depot Ave\, Knoxville\, TN\, 37931\, United States
END:VEVENT
BEGIN:VEVENT
DTSTART;TZID=UTC:20220205T150000
DTEND;TZID=UTC:20220205T180000
DTSTAMP:20260423T162859
CREATED:20220205T204151Z
LAST-MODIFIED:20220205T204151Z
UID:48-1644073200-1644084000@blueslipwinery.com
SUMMARY:Valentine's Day Wine Tasting
DESCRIPTION:
URL:https://blueslipwinery.com/event/valentines-day-wine-tasting/
LOCATION:Historic Southern Railway Station\, 300 West Depot Ave\, Knoxville\, TN\, 37931\, United States
END:VEVENT
END:VCALENDAR